BEGIN:VCALENDAR
VERSION:2.0
PRODID:-//ASAPbio - ECPv5.5.0//NONSGML v1.0//EN
CALSCALE:GREGORIAN
METHOD:PUBLISH
X-WR-CALNAME:ASAPbio
X-ORIGINAL-URL:https://asapbio.org
X-WR-CALDESC:Events for ASAPbio
BEGIN:VTIMEZONE
TZID:America/New_York
BEGIN:DAYLIGHT
TZOFFSETFROM:-0500
TZOFFSETTO:-0400
TZNAME:EDT
DTSTART:20210314T070000
END:DAYLIGHT
BEGIN:STANDARD
TZOFFSETFROM:-0400
TZOFFSETTO:-0500
TZNAME:EST
DTSTART:20211107T060000
END:STANDARD
END:VTIMEZONE
BEGIN:VEVENT
DTSTART;TZID=America/New_York:20210126T120000
DTEND;TZID=America/New_York:20210126T120000
DTSTAMP:20210812T113322
CREATED:20210106T170017Z
LAST-MODIFIED:20210401T151640Z
UID:5627-1611662400-1611662400@asapbio.org
SUMMARY:ASAPbio Community Call January 2021
DESCRIPTION:ASAPbio strategic direction & plans for 2021\nAt our next Community Call on 26 January 2021\, we will provide an overview of our vision and strategic goals which will guide our work towards more openness and transparency in life sciences communication. Join us to learn more about our future direction and plans\, here is what will cover: \n\nASAPbio President Prachee Avasthi will share her vision for the organization and life sciences communication\nASAPbio Executive Director Jessica Polka and Associate Director Iratxe Puebla will provide an overview of ASAPbio’s strategic goals and associated initiatives\nWe’ll request feedback on the goals and projects in the pipeline\n\nDate: 26 January 2021 at noon EST/5pm UTC/6pm CET \nRegister for the Community Call here: https://us02web.zoom.us/meeting/register/tZIsf-qorjMvEtz0CecOqyvZlgGKGhRAgHn_
URL:https://asapbio.org/event/asapbio-community-call-january-2021
LOCATION:Zoom Webinar
END:VEVENT
END:VCALENDAR